BEGIN:VCALENDAR
VERSION:2.0
PRODID:-//wp-events-plugin.com//7.2.3.1//EN
BEGIN:VEVENT
UID:15@trumbullenterprises.com
DTSTART;TZID=America/New_York:20251031T180000
DTEND;TZID=America/New_York:20251031T200000
DTSTAMP:20251022T163134Z
URL:https://trumbullenterprises.com/events/beetlejuice-beetlejuice-on-the-
 new-haven-green/
SUMMARY:Beetlejuice\, Beetlejuice on the New Haven Green
DESCRIPTION:Halloween Movie Night: Beetlejuice Beetlejuice\n Friday\, Octob
 er 31\, 2025\n 6:00 PM – 8:00 PM\n The New Haven Green\n\nCelebrate Hall
 oween on the Green with a free outdoor screening of Beetlejuice Beetlejuic
 e! Bring your blankets\, lawn chairs\, and friends for a spooky\, fun-fill
 ed night under the stars. Costumes are welcome\, and all ages are invited 
 to enjoy this Halloween favorite in the heart of downtown New Haven.\n\nFr
 ee and open to the public. Presented by The Committee of The Proprietors o
 f The New Haven Green\n\n\n\n&nbsp\;
ATTACH;FMTTYPE=image/jpeg:https://trumbullenterprises.com/wp-content/uploa
 ds/2025/10/moviesonthegreenbb.jpg
CATEGORIES:Movie
LOCATION:New Haven Green\, 250 Temple Street\, New Haven\, Connecticut\, 06
 511\, United States
X-APPLE-STRUCTURED-LOCATION;VALUE=URI;X-ADDRESS=250 Temple Street\, New Hav
 en\, Connecticut\, 06511\, United States;X-APPLE-RADIUS=100;X-TITLE=New Ha
 ven Green:geo:0,0
END:VEVENT
BEGIN:VTIMEZONE
TZID:America/New_York
X-LIC-LOCATION:America/New_York
BEGIN:DAYLIGHT
DTSTART:20250309T030000
TZOFFSETFROM:-0500
TZOFFSETTO:-0400
TZNAME:EDT
END:DAYLIGHT
END:VTIMEZONE
END:VCALENDAR