BEGIN:VCALENDAR
VERSION:2.0
PRODID:-//wp-events-plugin.com//7.2.3.1//EN
BEGIN:VEVENT
UID:20@trumbullenterprises.com
DTSTART;TZID=America/New_York:20251204T170000
DTEND;TZID=America/New_York:20251204T200000
DTSTAMP:20251119T154753Z
URL:https://trumbullenterprises.com/events/city-of-new-haven-tree-lighting
 /
SUMMARY:City of New Haven Tree Lighting
DESCRIPTION:\n\n&nbsp\;\n\nGet ready for an unforgettable evening! On Thurs
 day December 4th\, 2025\, the City of New Haven’s Departments of Arts\, 
 Culture and Tourism and Parks\, Recreation and Trees invite you to the spe
 ctacular annual Tree Lighting Ceremony presented by WTNH News 8! Join us f
 rom 5:00–7:30 pm on the lower Green for an evening filled with joy and c
 elebration.\n\nThe festivities kick off at 5:30 pm with amazing music\, ca
 ptivating performances\, and the dazzling tree lighting. There will also b
 e amusement rides to add extra fun for everyone!
LOCATION:New Haven Green\, 250 Temple Street\, New Haven\, Connecticut\, 06
 511\, United States
X-APPLE-STRUCTURED-LOCATION;VALUE=URI;X-ADDRESS=250 Temple Street\, New Hav
 en\, Connecticut\, 06511\, United States;X-APPLE-RADIUS=100;X-TITLE=New Ha
 ven Green:geo:0,0
END:VEVENT
BEGIN:VTIMEZONE
TZID:America/New_York
X-LIC-LOCATION:America/New_York
BEGIN:STANDARD
DTSTART:20251102T010000
TZOFFSETFROM:-0400
TZOFFSETTO:-0500
TZNAME:EST
END:STANDARD
END:VTIMEZONE
END:VCALENDAR