BEGIN:VCALENDAR
VERSION:2.0
PRODID:-//wp-events-plugin.com//7.2.3.1//EN
BEGIN:VEVENT
UID:9@trumbullenterprises.com
DTSTART;TZID=America/New_York:20251001T140000
DTEND;TZID=America/New_York:20251001T170000
DTSTAMP:20250926T163945Z
URL:https://trumbullenterprises.com/events/cityseed-farmers-market-q-house
 /
SUMMARY:CitySeed Farmer's Market - Q House
DESCRIPTION:CitySeed operates a series of vibrant\, year-round Farmers Mark
 ets throughout New Haven\, CT — Wooster Square\, Edgewood Park\, Dixwell
  Q House and Winter market. Our markets provide a direct connection to mor
 e than 50 Connecticut vendors\, including farms\, nurseries\, bakeries\, c
 heese makers\, and specialty food producers. Our markets provide vital eco
 nomic opportunities for regional farmers\, helping to keep our local food 
 system healthy and strong.
CATEGORIES:Farmer's Market
LOCATION:Q House Farmer's Market\, 197 Dixwell Avenue\, New Haven\, Connect
 icut\, 06511\, United States
X-APPLE-STRUCTURED-LOCATION;VALUE=URI;X-ADDRESS=197 Dixwell Avenue\, New Ha
 ven\, Connecticut\, 06511\, United States;X-APPLE-RADIUS=100;X-TITLE=Q Hou
 se Farmer's Market:geo:0,0
END:VEVENT
BEGIN:VTIMEZONE
TZID:America/New_York
X-LIC-LOCATION:America/New_York
BEGIN:DAYLIGHT
DTSTART:20250309T030000
TZOFFSETFROM:-0500
TZOFFSETTO:-0400
TZNAME:EDT
END:DAYLIGHT
END:VTIMEZONE
END:VCALENDAR