BEGIN:VCALENDAR
VERSION:2.0
PRODID:-//wp-events-plugin.com//7.2.3.1//EN
BEGIN:VEVENT
UID:24@trumbullenterprises.com
DTSTART;TZID=America/New_York:20251207T110000
DTEND;TZID=America/New_York:20251207T150000
DTSTAMP:20251125T165716Z
URL:https://trumbullenterprises.com/events/coogan-pavilion-wreath-and-cand
 le-making/
SUMMARY:Coogan Pavilion Wreath and Candle Making
DESCRIPTION:\n\n&nbsp\;\n\n\nDate: December 7th\, 2025\n\nTime: 11am-3pm \n
 \nCoogan Pavilion Wreath and Candle Making\n\n Register online by using th
 is link--&gt\; https://forms.office.com/g/UTvM6TwTWJ\nRegistration is requ
 ired and due by December 1st.\n
END:VEVENT
BEGIN:VTIMEZONE
TZID:America/New_York
X-LIC-LOCATION:America/New_York
BEGIN:STANDARD
DTSTART:20251102T010000
TZOFFSETFROM:-0400
TZOFFSETTO:-0500
TZNAME:EST
END:STANDARD
END:VTIMEZONE
END:VCALENDAR