BEGIN:VCALENDAR
VERSION:2.0
PRODID:-//wp-events-plugin.com//7.2.3.1//EN
BEGIN:VEVENT
UID:17@trumbullenterprises.com
DTSTART;TZID=America/New_York:20251120T163000
DTEND;TZID=America/New_York:20251120T203000
DTSTAMP:20251117T203534Z
URL:https://trumbullenterprises.com/events/flights-of-fancy/
SUMMARY:Flights of Fancy
DESCRIPTION:&nbsp\;\n\n\n\n&nbsp\;\n\nJoin us on Thursday\, November 20\, 2
 025\, from 4:30 pm to 8:30 pm for an evening filled with shopping\, tastin
 gs\, and special deals. The heart of downtown will feature over 20 stops a
 t independent businesses.\n\nEach participant receives a souvenir wine gla
 ss and an event bag with goodies. Prefer not to sip? Choose the “Hold th
 e Wine” ticket for access to all venues and discounts without wine tasti
 ngs.\n\nRegistration starts at 4:30 pm\, and tickets must be purchased in 
 advance\; no walk-ins allowed. Be sure to bring a valid ID for this 21+ ev
 ent\, and arrive early to plan your stops. Support local shops and discove
 r the charm of downtown New Haven!
ATTACH;FMTTYPE=image/jpeg:https://trumbullenterprises.com/wp-content/uploa
 ds/2025/11/flights-of-fancy.png
END:VEVENT
BEGIN:VTIMEZONE
TZID:America/New_York
X-LIC-LOCATION:America/New_York
BEGIN:STANDARD
DTSTART:20251102T010000
TZOFFSETFROM:-0400
TZOFFSETTO:-0500
TZNAME:EST
END:STANDARD
END:VTIMEZONE
END:VCALENDAR