BEGIN:VCALENDAR
VERSION:2.0
PRODID:-//wp-events-plugin.com//7.2.3.1//EN
BEGIN:VEVENT
UID:14@trumbullenterprises.com
DTSTART;TZID=America/New_York:20251025T170000
DTEND;TZID=America/New_York:20251025T200000
DTSTAMP:20251022T153558Z
URL:https://trumbullenterprises.com/events/halloween-on-the-green/
SUMMARY:Halloween on the Green
DESCRIPTION:\n\n&nbsp\;\n\nLoads of fun\, including Trunk or Treat on Churc
 h Street 5-6pm\n\nStrolling Magician Show at 6pm\n\nHalloween Crafts for K
 ids
LOCATION:West Haven Green\, 355 Main Street\, West Haven\, Connecticut\, 06
 516\, United States
X-APPLE-STRUCTURED-LOCATION;VALUE=URI;X-ADDRESS=355 Main Street\, West Have
 n\, Connecticut\, 06516\, United States;X-APPLE-RADIUS=100;X-TITLE=West Ha
 ven Green:geo:0,0
END:VEVENT
BEGIN:VTIMEZONE
TZID:America/New_York
X-LIC-LOCATION:America/New_York
BEGIN:DAYLIGHT
DTSTART:20250309T030000
TZOFFSETFROM:-0500
TZOFFSETTO:-0400
TZNAME:EDT
END:DAYLIGHT
END:VTIMEZONE
END:VCALENDAR