BEGIN:VCALENDAR
VERSION:2.0
PRODID:-//wp-events-plugin.com//7.2.3.1//EN
BEGIN:VEVENT
UID:7@trumbullenterprises.com
DTSTART;TZID=America/New_York:20250924T200000
DTEND;TZID=America/New_York:20251001T220000
DTSTAMP:20250924T144534Z
URL:https://trumbullenterprises.com/events/movies-in-the-plaza/
SUMMARY:Movies in the Plaza
DESCRIPTION:Movies in the Plaza brings you free Wednesday night movie scree
 nings May through October in downtown New Haven’s beloved\, cozy Pitkin 
 Plaza! Grab your lawn chairs\, picnic blankets and some takeout from a loc
 al spot\, and spend an evening under the stars enjoying blockbusters\, nos
 talgic blasts from the past\, cult favorites\, family films\, and more.\n\
 n
LOCATION:Pitkin Plaza\, 145 Orange Street\, New Haven\, Connecticut\, 06510
 \, United States
X-APPLE-STRUCTURED-LOCATION;VALUE=URI;X-ADDRESS=145 Orange Street\, New Hav
 en\, Connecticut\, 06510\, United States;X-APPLE-RADIUS=100;X-TITLE=Pitkin
  Plaza:geo:0,0
END:VEVENT
BEGIN:VTIMEZONE
TZID:America/New_York
X-LIC-LOCATION:America/New_York
BEGIN:DAYLIGHT
DTSTART:20250309T030000
TZOFFSETFROM:-0500
TZOFFSETTO:-0400
TZNAME:EDT
END:DAYLIGHT
END:VTIMEZONE
END:VCALENDAR