BEGIN:VCALENDAR
VERSION:2.0
PRODID:-//wp-events-plugin.com//7.2.3.1//EN
BEGIN:VEVENT
UID:1@trumbullenterprises.com
DTSTART:20250927T200000Z
DTEND:20250927T220000Z
DTSTAMP:20250924T135638Z
URL:https://trumbullenterprises.com/events/movies-on-the-green-soul/
SUMMARY:Movies on the Green: Soul
DESCRIPTION:From the New Haven Green: Join us under the stars on the New Ha
 ven Green for a magical outdoor screening of Disney Pixar’s Soul! Bring 
 your blankets\, snacks\, and friends for a night of family fun and communi
 ty vibes.
LOCATION:New Haven Green\, 250 Temple Street\, New Haven\, Connecticut\, 06
 511\, United States
X-APPLE-STRUCTURED-LOCATION;VALUE=URI;X-ADDRESS=250 Temple Street\, New Hav
 en\, Connecticut\, 06511\, United States;X-APPLE-RADIUS=100;X-TITLE=New Ha
 ven Green:geo:0,0
END:VEVENT
END:VCALENDAR