BEGIN:VCALENDAR
VERSION:2.0
PRODID:-//wp-events-plugin.com//7.2.3.1//EN
BEGIN:VEVENT
UID:21@trumbullenterprises.com
DTSTART;TZID=America/New_York:20251213T100000
DTEND;TZID=America/New_York:20251213T143000
DTSTAMP:20251120T170439Z
URL:https://trumbullenterprises.com/events/neighborhood-music-school-holid
 ay-play-sing-in-gingerbread-house-fun-raiser/
SUMMARY:Neighborhood Music School Holiday Play/Sing-In & Gingerbread House 
 Fun-Raiser
DESCRIPTION:All ages\, instruments\, and voices welcome as we come together
  to make joyful music from around the world to celebrate the season!\nBrin
 g a bag of candy and join us to build and decorate gingerbread houses! All
  proceeds support NMS. Open to to all NMS families and friends. $10 per ho
 use.
END:VEVENT
BEGIN:VTIMEZONE
TZID:America/New_York
X-LIC-LOCATION:America/New_York
BEGIN:STANDARD
DTSTART:20251102T010000
TZOFFSETFROM:-0400
TZOFFSETTO:-0500
TZNAME:EST
END:STANDARD
END:VTIMEZONE
END:VCALENDAR