BEGIN:VCALENDAR
VERSION:2.0
PRODID:-//wp-events-plugin.com//7.2.3.1//EN
BEGIN:VEVENT
UID:8@trumbullenterprises.com
DTSTART;TZID=America/New_York:20251010T170000
DTEND;TZID=America/New_York:20251010T220000
DTSTAMP:20250925T153747Z
URL:https://trumbullenterprises.com/events/new-haven-night-market/
SUMMARY:New Haven Night Market
DESCRIPTION:Hosted by The Town Green District aka DowntownNHV\, the New Hav
 en Night Market is downtown NHV’s evening bazaar\, taking place in diffe
 rent downtown locations and gathering all to celebrate the vibrant New Hav
 en and Greater New Haven community’s entrepreneurs\, art\, music\, food\
 , drink\, culture and more!\nDate: Friday\, October 10\, 2025\nLocation: 9
 th Square Neighborhood of Downtown New Haven (Along Orange\, from Court to
  George)
LOCATION:Pitkin Plaza\, 145 Orange Street\, New Haven\, Connecticut\, 06510
 \, United States
X-APPLE-STRUCTURED-LOCATION;VALUE=URI;X-ADDRESS=145 Orange Street\, New Hav
 en\, Connecticut\, 06510\, United States;X-APPLE-RADIUS=100;X-TITLE=Pitkin
  Plaza:geo:0,0
END:VEVENT
BEGIN:VTIMEZONE
TZID:America/New_York
X-LIC-LOCATION:America/New_York
BEGIN:DAYLIGHT
DTSTART:20250309T030000
TZOFFSETFROM:-0500
TZOFFSETTO:-0400
TZNAME:EDT
END:DAYLIGHT
END:VTIMEZONE
END:VCALENDAR