BEGIN:VCALENDAR
VERSION:2.0
PRODID:-//wp-events-plugin.com//7.2.3.1//EN
BEGIN:VEVENT
UID:12@trumbullenterprises.com
DTSTART;TZID=America/New_York:20251009T173000
DTEND;TZID=America/New_York:20251009T200000
DTSTAMP:20251003T142542Z
URL:https://trumbullenterprises.com/events/pronounced-ah-beetz-opening-rec
 eption/
SUMMARY:Pronounced Ah-beetz Opening Reception
DESCRIPTION:\n\nEvent Details\n\n\n&nbsp\;\n\nThe New Haven Museum will ope
 n its new exhibition\, Pronounced Ah-Beetz\, on Thursday\, October 9\, 202
 5\, with a reception at 5:30 p.m. The free event will feature slices from 
 Pepe’s\, Sally’s\, and Modern\, with registration required.\n\nThe exh
 ibition highlights the history and culture of New Haven’s famous apizza\
 , tracing its roots from Italy to the “Big Three” pizzerias—Pepe’s
 \, Sally’s\, and Modern—and extending through a network of local favor
 ites such as Ernie’s\, Zuppardi’s\, BAR\, Zeneli’s\, Olde World\, an
 d the Big Green Pizza Truck. Artifacts\, photographs\, and immersive displ
 ays will bring the city’s pizza tradition to life\, including a brick ov
 en replica and stories of other local staples like Foxon Park Soda.\n\nPro
 nounced Ah-Beetz will remain on view through October 2027. For details and
  registration\, visit newhavenmuseum.org.\n\n\n\n
LOCATION:New Haven Museum\, 114 Whitney Avenue \, New Haven\, Connecticut\,
  06511\, United States
X-APPLE-STRUCTURED-LOCATION;VALUE=URI;X-ADDRESS=114 Whitney Avenue \, New H
 aven\, Connecticut\, 06511\, United States;X-APPLE-RADIUS=100;X-TITLE=New 
 Haven Museum:geo:0,0
END:VEVENT
BEGIN:VTIMEZONE
TZID:America/New_York
X-LIC-LOCATION:America/New_York
BEGIN:DAYLIGHT
DTSTART:20250309T030000
TZOFFSETFROM:-0500
TZOFFSETTO:-0400
TZNAME:EDT
END:DAYLIGHT
END:VTIMEZONE
END:VCALENDAR