BEGIN:VCALENDAR
VERSION:2.0
PRODID:-//wp-events-plugin.com//7.2.3.1//EN
BEGIN:VEVENT
UID:3@trumbullenterprises.com
DTSTART;TZID=America/New_York:20250925T100000
DTEND;TZID=America/New_York:20251009T140000
DTSTAMP:20250923T181528Z
URL:https://trumbullenterprises.com/events/west-haven-farmers-market/
SUMMARY:West Haven Farmer's Market
DESCRIPTION:The market\, held from July 5-Oct. 11\, will include state farm
 ers selling homegrown fruits and vegetables and crafters selling homemade 
 wares from 10 a.m.-2 p.m. every Thursday on the Green\, at Campbell Avenue
  and Main Street\, and every Saturday adjacent to the beach lot\, off Capt
 ain Thomas Boulevard.\n\nParking is available on Campbell Avenue and in th
 e City Hall municipal lot\, 355 Main St.\, as well as in the Oak Street mu
 nicipal lot and on Palace Street. Oak Street is on the senior shuttle rout
 e and the CTtransit route.\n\nThe farmers market was dedicated in 2010 in 
 memory of Anthony F. “Tony” Inzero\, a leader in the downtown business
  community who co-owned Flower Affair on Campbell Avenue with Betty DelVec
 chio for many years. Inzero was a founding member and longtime president o
 f the West Haven Business Association who spearheaded a variety of events 
 and programs to drum up business for fellow merchants\, including the firs
 t farmers market in 2000. Inzero\, who lived in Hamden\, died in 2009 at a
 ge 59.
CATEGORIES:Farmer's Market
LOCATION:West Haven Green\, 355 Main Street\, West Haven\, Connecticut\, 06
 516\, United States
X-APPLE-STRUCTURED-LOCATION;VALUE=URI;X-ADDRESS=355 Main Street\, West Have
 n\, Connecticut\, 06516\, United States;X-APPLE-RADIUS=100;X-TITLE=West Ha
 ven Green:geo:0,0
END:VEVENT
BEGIN:VTIMEZONE
TZID:America/New_York
X-LIC-LOCATION:America/New_York
BEGIN:DAYLIGHT
DTSTART:20250309T030000
TZOFFSETFROM:-0500
TZOFFSETTO:-0400
TZNAME:EDT
END:DAYLIGHT
END:VTIMEZONE
END:VCALENDAR